Package: loci2path Version: 1.26.0 Command: /Library/Frameworks/R.framework/Resources/bin/R CMD check --install=check:loci2path.install-out.txt --library=/Library/Frameworks/R.framework/Resources/library --no-vignettes --timings loci2path_1.26.0.tar.gz StartedAt: 2025-04-01 23:17:17 -0400 (Tue, 01 Apr 2025) EndedAt: 2025-04-01 23:18:47 -0400 (Tue, 01 Apr 2025) EllapsedTime: 89.8 seconds RetCode: 0 Status: OK CheckDir: loci2path.Rcheck Warnings: 0