Package: lmdme Version: 1.48.0 Command: /Library/Frameworks/R.framework/Resources/bin/R CMD build --keep-empty-dirs --no-resave-data lmdme StartedAt: 2025-03-31 19:42:14 -0400 (Mon, 31 Mar 2025) EndedAt: 2025-03-31 19:42:43 -0400 (Mon, 31 Mar 2025) EllapsedTime: 29.3 seconds RetCode: 0 Status: OK PackageFile: lmdme_1.48.0.tar.gz PackageFileSize: 608.7 KiB