Package: lisaClust Version: 1.14.4 Command: /home/biocbuild/R/R/bin/R CMD build --keep-empty-dirs --no-resave-data lisaClust StartedAt: 2025-02-04 00:35:27 -0000 (Tue, 04 Feb 2025) EndedAt: 2025-02-04 00:35:28 -0000 (Tue, 04 Feb 2025) EllapsedTime: 1.0 seconds RetCode: 1 Status: ERROR PackageFile: None PackageFileSize: NA