############################################################################## ############################################################################## ### ### Running command: ### ### /home/biocbuild/R/R/bin/R CMD build --keep-empty-dirs --no-resave-data lisaClust ### ############################################################################## ############################################################################## * checking for file ‘lisaClust/DESCRIPTION’ ... OK * preparing ‘lisaClust’: * checking DESCRIPTION meta-information ... OK * installing the package to build vignettes ----------------------------------- ERROR: dependencies ‘concaveman’, ‘spicyR’ are not available for package ‘lisaClust’ * removing ‘/home/biocbuild/tmp/Rtmp9iZX8M/Rinst8f6622c33ae45/lisaClust’ ----------------------------------- ERROR: package installation failed