Package: lisaClust Version: 1.14.4 Command: rm -rf lisaClust.buildbin-libdir && mkdir lisaClust.buildbin-libdir && F:\biocbuild\bbs-3.20-bioc\R\bin\R.exe CMD INSTALL --build --library=lisaClust.buildbin-libdir lisaClust_1.14.4.tar.gz StartedAt: 2025-01-31 08:56:34 -0500 (Fri, 31 Jan 2025) EndedAt: 2025-01-31 08:57:22 -0500 (Fri, 31 Jan 2025) EllapsedTime: 48.5 seconds RetCode: 0 Status: OK PackageFile: lisaClust_1.14.4.zip PackageFileSize: 939.7 KiB