Package: lisaClust Version: 1.14.4 Command: /Library/Frameworks/R.framework/Resources/bin/R CMD INSTALL lisaClust StartedAt: 2025-03-31 16:39:31 -0400 (Mon, 31 Mar 2025) EndedAt: 2025-03-31 16:40:28 -0400 (Mon, 31 Mar 2025) EllapsedTime: 57.3 seconds RetCode: 0 Status: OK