Package: lisaClust Version: 1.14.4 Command: /Library/Frameworks/R.framework/Resources/bin/R CMD build --keep-empty-dirs --no-resave-data lisaClust StartedAt: 2025-03-31 19:42:10 -0400 (Mon, 31 Mar 2025) EndedAt: 2025-03-31 19:50:14 -0400 (Mon, 31 Mar 2025) EllapsedTime: 483.7 seconds RetCode: 0 Status: OK PackageFile: lisaClust_1.14.4.tar.gz PackageFileSize: 2.553 MiB