Package: lipidr Version: 2.20.0 Command: /home/biocbuild/bbs-3.20-bioc/R/bin/R CMD check --install=check:lipidr.install-out.txt --library=/home/biocbuild/bbs-3.20-bioc/R/site-library --timings lipidr_2.20.0.tar.gz StartedAt: 2025-03-31 23:26:21 -0400 (Mon, 31 Mar 2025) EndedAt: 2025-03-31 23:31:08 -0400 (Mon, 31 Mar 2025) EllapsedTime: 287.4 seconds RetCode: 0 Status: OK CheckDir: lipidr.Rcheck Warnings: 0