Package: lipidr Version: 2.20.0 Command: /Library/Frameworks/R.framework/Resources/bin/R CMD INSTALL lipidr StartedAt: 2025-01-27 16:35:54 -0500 (Mon, 27 Jan 2025) EndedAt: 2025-01-27 16:36:55 -0500 (Mon, 27 Jan 2025) EllapsedTime: 61.4 seconds RetCode: 0 Status: OK