Package: lipidr Version: 2.20.0 Command: /Library/Frameworks/R.framework/Resources/bin/R CMD INSTALL lipidr StartedAt: 2025-02-03 17:53:05 -0500 (Mon, 03 Feb 2025) EndedAt: 2025-02-03 17:53:38 -0500 (Mon, 03 Feb 2025) EllapsedTime: 32.7 seconds RetCode: 0 Status: OK