Package: lipidr Version: 2.20.0 Command: /Library/Frameworks/R.framework/Resources/bin/R CMD check --install=check:lipidr.install-out.txt --library=/Library/Frameworks/R.framework/Resources/library --no-vignettes --timings lipidr_2.20.0.tar.gz StartedAt: 2025-02-04 23:59:06 -0500 (Tue, 04 Feb 2025) EndedAt: 2025-02-05 00:07:55 -0500 (Wed, 05 Feb 2025) EllapsedTime: 528.7 seconds RetCode: 0 Status: OK CheckDir: lipidr.Rcheck Warnings: 0