Package: lionessR Version: 1.20.0 Command: /Library/Frameworks/R.framework/Resources/bin/R CMD check --install=check:lionessR.install-out.txt --library=/Library/Frameworks/R.framework/Resources/library --no-vignettes --timings lionessR_1.20.0.tar.gz StartedAt: 2025-01-28 23:17:48 -0500 (Tue, 28 Jan 2025) EndedAt: 2025-01-28 23:18:26 -0500 (Tue, 28 Jan 2025) EllapsedTime: 38.3 seconds RetCode: 0 Status: OK CheckDir: lionessR.Rcheck Warnings: 0