Package: limpca Version: 1.2.0 Command: /home/biocbuild/R/R/bin/R CMD INSTALL limpca StartedAt: 2025-01-30 21:03:46 -0000 (Thu, 30 Jan 2025) EndedAt: 2025-01-30 21:04:17 -0000 (Thu, 30 Jan 2025) EllapsedTime: 30.7 seconds RetCode: 0 Status: OK