Package: limpca Version: 1.2.0 Command: /home/biocbuild/R/R/bin/R CMD build --keep-empty-dirs --no-resave-data limpca StartedAt: 2025-02-04 00:34:01 -0000 (Tue, 04 Feb 2025) EndedAt: 2025-02-04 00:36:33 -0000 (Tue, 04 Feb 2025) EllapsedTime: 152.1 seconds RetCode: 0 Status: OK PackageFile: limpca_1.2.0.tar.gz PackageFileSize: 3.066 MiB