Package: limpca Version: 1.2.0 Command: chmod a+r limpca -R && F:\biocbuild\bbs-3.20-bioc\R\bin\R.exe CMD build --keep-empty-dirs --no-resave-data limpca StartedAt: 2025-03-31 19:50:41 -0400 (Mon, 31 Mar 2025) EndedAt: 2025-03-31 19:54:31 -0400 (Mon, 31 Mar 2025) EllapsedTime: 229.4 seconds RetCode: 0 Status: OK PackageFile: limpca_1.2.0.tar.gz PackageFileSize: 2.304 MiB