Package: limmaGUI Version: 1.82.0 Command: /home/biocbuild/bbs-3.20-bioc/R/bin/R CMD INSTALL limmaGUI StartedAt: 2024-11-19 15:23:41 -0500 (Tue, 19 Nov 2024) EndedAt: 2024-11-19 15:24:00 -0500 (Tue, 19 Nov 2024) EllapsedTime: 18.9 seconds RetCode: 0 Status: OK