Package: limmaGUI Version: 1.82.0 Command: /home/biocbuild/R/R/bin/R CMD INSTALL limmaGUI StartedAt: 2025-02-03 20:25:49 -0000 (Mon, 03 Feb 2025) EndedAt: 2025-02-03 20:26:14 -0000 (Mon, 03 Feb 2025) EllapsedTime: 24.5 seconds RetCode: 0 Status: OK