Package: limmaGUI Version: 1.82.0 Command: /home/biocbuild/R/R/bin/R CMD check --install=check:limmaGUI.install-out.txt --library=/home/biocbuild/R/R/site-library --no-vignettes --timings limmaGUI_1.82.0.tar.gz StartedAt: 2025-02-04 08:19:26 -0000 (Tue, 04 Feb 2025) EndedAt: 2025-02-04 08:20:23 -0000 (Tue, 04 Feb 2025) EllapsedTime: 57.1 seconds RetCode: 0 Status: WARNINGS CheckDir: limmaGUI.Rcheck Warnings: 1