Package: limmaGUI Version: 1.82.0 Command: /home/biocbuild/bbs-3.20-bioc/R/bin/R CMD build --keep-empty-dirs --no-resave-data --md5 limmaGUI StartedAt: 2025-01-27 18:45:08 -0500 (Mon, 27 Jan 2025) EndedAt: 2025-01-27 18:45:29 -0500 (Mon, 27 Jan 2025) EllapsedTime: 21.1 seconds RetCode: 0 Status: OK PackageFile: limmaGUI_1.82.0.tar.gz PackageFileSize: 5.353 MiB