Package: limmaGUI Version: 1.82.0 Command: /Library/Frameworks/R.framework/Resources/bin/R CMD build --keep-empty-dirs --no-resave-data limmaGUI StartedAt: 2025-02-04 02:16:36 -0500 (Tue, 04 Feb 2025) EndedAt: 2025-02-04 02:17:13 -0500 (Tue, 04 Feb 2025) EllapsedTime: 36.6 seconds RetCode: 0 Status: OK PackageFile: limmaGUI_1.82.0.tar.gz PackageFileSize: 5.346 MiB