Package: limma Version: 3.62.2 Command: F:\biocbuild\bbs-3.20-bioc\R\bin\R.exe CMD INSTALL limma StartedAt: 2025-01-27 15:30:03 -0500 (Mon, 27 Jan 2025) EndedAt: 2025-01-27 15:31:52 -0500 (Mon, 27 Jan 2025) EllapsedTime: 108.5 seconds RetCode: 0 Status: OK