Package: limma Version: 3.62.2 Command: rm -rf limma.buildbin-libdir && mkdir limma.buildbin-libdir && F:\biocbuild\bbs-3.20-bioc\R\bin\R.exe CMD INSTALL --build --library=limma.buildbin-libdir limma_3.62.2.tar.gz StartedAt: 2025-01-28 08:26:26 -0500 (Tue, 28 Jan 2025) EndedAt: 2025-01-28 08:28:38 -0500 (Tue, 28 Jan 2025) EllapsedTime: 132.1 seconds RetCode: 0 Status: OK PackageFile: limma_3.62.2.zip PackageFileSize: 2.995 MiB