Package: limma Version: 3.61.1 Command: rm -rf limma.buildbin-libdir && mkdir limma.buildbin-libdir && F:\biocbuild\bbs-3.20-bioc\R\bin\R.exe CMD INSTALL --build --library=limma.buildbin-libdir limma_3.61.1.tar.gz StartedAt: 2024-06-10 14:02:12 -0400 (Mon, 10 Jun 2024) EndedAt: 2024-06-10 14:03:21 -0400 (Mon, 10 Jun 2024) EllapsedTime: 69.0 seconds RetCode: 0 Status: OK PackageFile: limma_3.61.1.zip PackageFileSize: 2.979 MiB