Package: limma Version: 3.62.2 Command: /home/biocbuild/bbs-3.20-bioc/R/bin/R CMD check --install=check:limma.install-out.txt --library=/home/biocbuild/bbs-3.20-bioc/R/site-library --timings limma_3.62.2.tar.gz StartedAt: 2025-01-28 00:23:04 -0500 (Tue, 28 Jan 2025) EndedAt: 2025-01-28 00:24:26 -0500 (Tue, 28 Jan 2025) EllapsedTime: 82.1 seconds RetCode: 0 Status: OK CheckDir: limma.Rcheck Warnings: 0