Package: limma Version: 3.62.2 Command: /Library/Frameworks/R.framework/Resources/bin/R CMD check --install=check:limma.install-out.txt --library=/Library/Frameworks/R.framework/Resources/library --no-vignettes --timings limma_3.62.2.tar.gz StartedAt: 2025-01-28 05:48:02 -0500 (Tue, 28 Jan 2025) EndedAt: 2025-01-28 05:51:40 -0500 (Tue, 28 Jan 2025) EllapsedTime: 218.8 seconds RetCode: 0 Status: OK CheckDir: limma.Rcheck Warnings: 0