Package: limma Version: 3.62.2 Command: /Library/Frameworks/R.framework/Resources/bin/R CMD build --keep-empty-dirs --no-resave-data limma StartedAt: 2025-03-31 19:41:09 -0400 (Mon, 31 Mar 2025) EndedAt: 2025-03-31 19:42:10 -0400 (Mon, 31 Mar 2025) EllapsedTime: 60.9 seconds RetCode: 0 Status: OK PackageFile: limma_3.62.2.tar.gz PackageFileSize: 2.685 MiB