Package: limma Version: 3.62.2 Command: rm -rf limma.buildbin-libdir && mkdir limma.buildbin-libdir && /Users/biocbuild/BBS/utils/build-universal.sh limma_3.62.2.tar.gz /Library/Frameworks/R.framework/Resources/bin/R limma.buildbin-libdir StartedAt: 2025-01-28 13:32:18 -0500 (Tue, 28 Jan 2025) EndedAt: 2025-01-28 13:33:32 -0500 (Tue, 28 Jan 2025) EllapsedTime: 74.0 seconds RetCode: 0 Status: OK PackageFile: limma_3.62.2.tgz PackageFileSize: 2.948 MiB