Package: limma Version: 3.62.2 Command: /Library/Frameworks/R.framework/Resources/bin/R CMD check --install=check:limma.install-out.txt --library=/Library/Frameworks/R.framework/Resources/library --no-vignettes --timings limma_3.62.2.tar.gz StartedAt: 2025-04-01 23:10:56 -0400 (Tue, 01 Apr 2025) EndedAt: 2025-04-01 23:12:29 -0400 (Tue, 01 Apr 2025) EllapsedTime: 93.1 seconds RetCode: 0 Status: OK CheckDir: limma.Rcheck Warnings: 0