Package: limma Version: 3.62.2 Command: rm -rf limma.buildbin-libdir && mkdir limma.buildbin-libdir && /Users/biocbuild/BBS/utils/build-universal.sh limma_3.62.2.tar.gz /Library/Frameworks/R.framework/Resources/bin/R limma.buildbin-libdir StartedAt: 2025-04-02 14:56:10 -0400 (Wed, 02 Apr 2025) EndedAt: 2025-04-02 14:56:31 -0400 (Wed, 02 Apr 2025) EllapsedTime: 21.6 seconds RetCode: 0 Status: OK PackageFile: limma_3.62.2.tgz PackageFileSize: 2.984 MiB