Package: lfa Version: 2.6.0 Command: /home/biocbuild/R/R/bin/R CMD INSTALL lfa StartedAt: 2025-02-03 20:22:57 -0000 (Mon, 03 Feb 2025) EndedAt: 2025-02-03 20:23:44 -0000 (Mon, 03 Feb 2025) EllapsedTime: 46.4 seconds RetCode: 0 Status: OK