Package: lfa Version: 2.6.0 Command: /Library/Frameworks/R.framework/Resources/bin/R CMD INSTALL lfa StartedAt: 2025-02-03 15:14:04 -0500 (Mon, 03 Feb 2025) EndedAt: 2025-02-03 15:14:48 -0500 (Mon, 03 Feb 2025) EllapsedTime: 44.2 seconds RetCode: 0 Status: OK