Package: lfa Version: 2.6.0 Command: /Library/Frameworks/R.framework/Resources/bin/R CMD check --install=check:lfa.install-out.txt --library=/Library/Frameworks/R.framework/Resources/library --no-vignettes --timings lfa_2.6.0.tar.gz StartedAt: 2025-02-04 23:54:00 -0500 (Tue, 04 Feb 2025) EndedAt: 2025-02-04 23:54:48 -0500 (Tue, 04 Feb 2025) EllapsedTime: 48.3 seconds RetCode: 0 Status: OK CheckDir: lfa.Rcheck Warnings: 0