Package: lfa Version: 2.6.0 Command: /Library/Frameworks/R.framework/Resources/bin/R CMD build --keep-empty-dirs --no-resave-data lfa StartedAt: 2025-04-01 02:01:44 -0400 (Tue, 01 Apr 2025) EndedAt: 2025-04-01 02:02:01 -0400 (Tue, 01 Apr 2025) EllapsedTime: 17.2 seconds RetCode: 0 Status: OK PackageFile: lfa_2.6.0.tar.gz PackageFileSize: 341.2 KiB