Package: les Version: 1.56.0 Command: /home/biocbuild/R/R/bin/R CMD build --keep-empty-dirs --no-resave-data les StartedAt: 2025-01-28 01:12:13 -0000 (Tue, 28 Jan 2025) EndedAt: 2025-01-28 01:12:33 -0000 (Tue, 28 Jan 2025) EllapsedTime: 20.0 seconds RetCode: 0 Status: OK PackageFile: les_1.56.0.tar.gz PackageFileSize: 439.5 KiB