Package: les Version: 1.56.0 Command: /Library/Frameworks/R.framework/Resources/bin/R CMD build --keep-empty-dirs --no-resave-data les StartedAt: 2025-02-03 19:55:40 -0500 (Mon, 03 Feb 2025) EndedAt: 2025-02-03 19:56:25 -0500 (Mon, 03 Feb 2025) EllapsedTime: 44.6 seconds RetCode: 0 Status: OK PackageFile: les_1.56.0.tar.gz PackageFileSize: 449 KiB