Package: les Version: 1.56.0 Command: rm -rf les.buildbin-libdir && mkdir les.buildbin-libdir && /Users/biocbuild/BBS/utils/build-universal.sh les_1.56.0.tar.gz /Library/Frameworks/R.framework/Resources/bin/R les.buildbin-libdir StartedAt: 2025-04-01 12:08:17 -0400 (Tue, 01 Apr 2025) EndedAt: 2025-04-01 12:08:27 -0400 (Tue, 01 Apr 2025) EllapsedTime: 9.9 seconds RetCode: 0 Status: OK PackageFile: les_1.56.0.tgz PackageFileSize: 671 KiB