Package: les Version: 1.56.0 Command: rm -rf les.buildbin-libdir && mkdir les.buildbin-libdir && /Users/biocbuild/BBS/utils/build-universal.sh les_1.56.0.tar.gz /Library/Frameworks/R.framework/Resources/bin/R les.buildbin-libdir StartedAt: 2025-01-29 15:13:03 -0500 (Wed, 29 Jan 2025) EndedAt: 2025-01-29 15:13:08 -0500 (Wed, 29 Jan 2025) EllapsedTime: 5.7 seconds RetCode: 0 Status: OK PackageFile: les_1.56.0.tgz PackageFileSize: 672.6 KiB