Package: lemur Version: 1.4.0 Command: /home/biocbuild/R/R/bin/R CMD INSTALL lemur StartedAt: 2025-03-31 20:26:50 -0000 (Mon, 31 Mar 2025) EndedAt: 2025-03-31 20:27:44 -0000 (Mon, 31 Mar 2025) EllapsedTime: 54.8 seconds RetCode: 0 Status: OK