Package: lemur Version: 1.4.0 Command: /home/biocbuild/bbs-3.20-bioc/R/bin/R CMD check --install=check:lemur.install-out.txt --library=/home/biocbuild/bbs-3.20-bioc/R/site-library --timings lemur_1.4.0.tar.gz StartedAt: 2025-01-28 00:22:53 -0500 (Tue, 28 Jan 2025) EndedAt: 2025-01-28 00:28:02 -0500 (Tue, 28 Jan 2025) EllapsedTime: 308.5 seconds RetCode: 0 Status: WARNINGS CheckDir: lemur.Rcheck Warnings: 1