Package: lemur Version: 1.4.0 Command: rm -rf lemur.buildbin-libdir && mkdir lemur.buildbin-libdir && /Users/biocbuild/BBS/utils/build-universal.sh lemur_1.4.0.tar.gz /Library/Frameworks/R.framework/Resources/bin/R lemur.buildbin-libdir StartedAt: 2025-02-04 13:16:18 -0500 (Tue, 04 Feb 2025) EndedAt: 2025-02-04 13:18:41 -0500 (Tue, 04 Feb 2025) EllapsedTime: 143.7 seconds RetCode: 0 Status: OK PackageFile: lemur_1.4.0.tgz PackageFileSize: 3.839 MiB