Package: lemur Version: 1.4.0 Command: /Library/Frameworks/R.framework/Resources/bin/R CMD INSTALL lemur StartedAt: 2025-01-27 15:33:41 -0500 (Mon, 27 Jan 2025) EndedAt: 2025-01-27 15:34:22 -0500 (Mon, 27 Jan 2025) EllapsedTime: 40.9 seconds RetCode: 0 Status: OK