Package: lefser Version: 1.16.0 Command: /Library/Frameworks/R.framework/Resources/bin/R CMD INSTALL lefser StartedAt: 2025-01-27 16:22:02 -0500 (Mon, 27 Jan 2025) EndedAt: 2025-01-27 16:22:57 -0500 (Mon, 27 Jan 2025) EllapsedTime: 55.0 seconds RetCode: 0 Status: OK