Package: lefser Version: 1.16.0 Command: rm -rf lefser.buildbin-libdir && mkdir lefser.buildbin-libdir && /Users/biocbuild/BBS/utils/build-universal.sh lefser_1.16.0.tar.gz /Library/Frameworks/R.framework/Resources/bin/R lefser.buildbin-libdir StartedAt: 2025-01-28 13:31:57 -0500 (Tue, 28 Jan 2025) EndedAt: 2025-01-28 13:33:32 -0500 (Tue, 28 Jan 2025) EllapsedTime: 95.2 seconds RetCode: 0 Status: OK PackageFile: lefser_1.16.0.tgz PackageFileSize: 667.1 KiB