Package: lefser Version: 1.16.2 Maintainer: Sehyun Oh MaintainerEmail: shbrief at gmail.com git_url: https://git.bioconductor.org/packages/lefser git_branch: RELEASE_3_20 git_last_commit: fa93776 git_last_commit_date: 2025-02-18 15:22:30 -0400 (Tue, 18 Feb 2025)