Package: ldblock Version: 1.36.0 Command: /home/biocbuild/bbs-3.20-bioc/R/bin/R CMD check --install=check:ldblock.install-out.txt --library=/home/biocbuild/bbs-3.20-bioc/R/site-library --timings ldblock_1.36.0.tar.gz StartedAt: 2025-03-31 23:23:55 -0400 (Mon, 31 Mar 2025) EndedAt: 2025-03-31 23:25:45 -0400 (Mon, 31 Mar 2025) EllapsedTime: 110.2 seconds RetCode: 0 Status: OK CheckDir: ldblock.Rcheck Warnings: 0