Package: lapmix Version: 1.72.0 Command: /home/biocbuild/R/R/bin/R CMD check --install=check:lapmix.install-out.txt --library=/home/biocbuild/R/R/site-library --no-vignettes --timings lapmix_1.72.0.tar.gz StartedAt: 2025-01-28 08:24:28 -0000 (Tue, 28 Jan 2025) EndedAt: 2025-01-28 08:24:53 -0000 (Tue, 28 Jan 2025) EllapsedTime: 25.0 seconds RetCode: 0 Status: OK CheckDir: lapmix.Rcheck Warnings: 0