Package: lapmix Version: 1.72.0 Command: F:\biocbuild\bbs-3.20-bioc\R\bin\R.exe CMD INSTALL lapmix StartedAt: 2025-01-27 15:34:19 -0500 (Mon, 27 Jan 2025) EndedAt: 2025-01-27 15:34:27 -0500 (Mon, 27 Jan 2025) EllapsedTime: 7.9 seconds RetCode: 0 Status: OK