Package: lapmix Version: 1.72.0 Command: /Library/Frameworks/R.framework/Resources/bin/R CMD INSTALL lapmix StartedAt: 2025-01-27 15:14:10 -0500 (Mon, 27 Jan 2025) EndedAt: 2025-01-27 15:14:13 -0500 (Mon, 27 Jan 2025) EllapsedTime: 3.8 seconds RetCode: 0 Status: OK