Package: koinar Version: 1.0.2 Command: /home/biocbuild/R/R/bin/R CMD check --install=check:koinar.install-out.txt --library=/home/biocbuild/R/R/site-library --no-vignettes --timings koinar_1.0.2.tar.gz StartedAt: 2025-01-28 08:24:00 -0000 (Tue, 28 Jan 2025) EndedAt: 2025-01-28 08:24:28 -0000 (Tue, 28 Jan 2025) EllapsedTime: 28.0 seconds RetCode: 0 Status: OK CheckDir: koinar.Rcheck Warnings: 0