Package: koinar Version: 1.0.2 Command: F:\biocbuild\bbs-3.20-bioc\R\bin\R.exe CMD INSTALL koinar StartedAt: 2025-03-31 15:32:09 -0400 (Mon, 31 Mar 2025) EndedAt: 2025-03-31 15:32:18 -0400 (Mon, 31 Mar 2025) EllapsedTime: 8.6 seconds RetCode: 0 Status: OK